BEGIN:VCALENDAR
VERSION:2.0
PRODID:-//Lane County Amateur Radio Emergency Service - ECPv6.15.20//NONSGML v1.0//EN
CALSCALE:GREGORIAN
METHOD:PUBLISH
X-WR-CALNAME:Lane County Amateur Radio Emergency Service
X-ORIGINAL-URL:https://www.laneares.org
X-WR-CALDESC:Events for Lane County Amateur Radio Emergency Service
REFRESH-INTERVAL;VALUE=DURATION:PT1H
X-Robots-Tag:noindex
X-PUBLISHED-TTL:PT1H
BEGIN:VTIMEZONE
TZID:America/Los_Angeles
BEGIN:DAYLIGHT
TZOFFSETFROM:-0800
TZOFFSETTO:-0700
TZNAME:PDT
DTSTART:20160313T100000
END:DAYLIGHT
BEGIN:STANDARD
TZOFFSETFROM:-0700
TZOFFSETTO:-0800
TZNAME:PST
DTSTART:20161106T090000
END:STANDARD
BEGIN:DAYLIGHT
TZOFFSETFROM:-0800
TZOFFSETTO:-0700
TZNAME:PDT
DTSTART:20170312T100000
END:DAYLIGHT
BEGIN:STANDARD
TZOFFSETFROM:-0700
TZOFFSETTO:-0800
TZNAME:PST
DTSTART:20171105T090000
END:STANDARD
BEGIN:DAYLIGHT
TZOFFSETFROM:-0800
TZOFFSETTO:-0700
TZNAME:PDT
DTSTART:20180311T100000
END:DAYLIGHT
BEGIN:STANDARD
TZOFFSETFROM:-0700
TZOFFSETTO:-0800
TZNAME:PST
DTSTART:20181104T090000
END:STANDARD
BEGIN:DAYLIGHT
TZOFFSETFROM:-0800
TZOFFSETTO:-0700
TZNAME:PDT
DTSTART:20190310T100000
END:DAYLIGHT
BEGIN:STANDARD
TZOFFSETFROM:-0700
TZOFFSETTO:-0800
TZNAME:PST
DTSTART:20191103T090000
END:STANDARD
END:VTIMEZONE
BEGIN:VTIMEZONE
TZID:UTC
BEGIN:STANDARD
TZOFFSETFROM:+0000
TZOFFSETTO:+0000
TZNAME:UTC
DTSTART:20160101T000000
END:STANDARD
END:VTIMEZONE
BEGIN:VEVENT
DTSTART;TZID=America/Los_Angeles:20180426T190000
DTEND;TZID=America/Los_Angeles:20180426T210000
DTSTAMP:20260422T153640
CREATED:20180119T145246Z
LAST-MODIFIED:20180119T145246Z
UID:275-1524769200-1524776400@www.laneares.org
SUMMARY:Entry-level (Technician) License Class (Session 4)
DESCRIPTION:Entry-level (Technician) license: Thursdays 7-9pm\, Apr 5-May 24\, 2018 (8 sessions)\nRegistration deadline\, March 20\, 2017 \nLocation: 440 E. Broadway\, Suite 200\, Eugene\, OR 97401 \nCost: No cost for the class! The study book is $30. License exam fee is $15 at exam time. \nTechnician class book: Ham Radio License Manual\, 3rd edition. \nThe book is available from the following sources:\n– “Matt” Dillon (If ordered early)\n– Ham Radio Outlet\, Portland store\, 1-800-765-4267\n– American Radio Relay League\, www.arrl.org\n– Amazon.com \nAvailable Seats: 25 for Technician class \nRegistration Contact: An email to the contact below with your phone # is your registration. \n“Matt” Dillon W7ARD\n541-689-0640\nw7ard@msn.com preferred
URL:https://www.laneares.org/event/technician-class4-spring18/
LOCATION:American Red Cross\, 440 E Broadway Ave.\, Eugene\, OR\, 97401\, United States
ORGANIZER;CN="Matt Dillon":MAILTO:w7ard@msn.com
END:VEVENT
BEGIN:VEVENT
DTSTART;TZID=America/Los_Angeles:20180424T190000
DTEND;TZID=America/Los_Angeles:20180424T210000
DTSTAMP:20260422T153640
CREATED:20180119T151257Z
LAST-MODIFIED:20180119T151257Z
UID:294-1524596400-1524603600@www.laneares.org
SUMMARY:Intermediate (General) License Class (Session 3)
DESCRIPTION:Spring: Intermediate (General) license: Tuesdays 7-9pm\, Apr 10-May 22\, 2018 (7 sessions)\nRegistration deadline\, March 20\, 2017 \nLocation: 440 E. Broadway\, Suite 200\, Eugene\, OR 97401 \nCost: No cost for the class! The study book is $30. License exam fee is $15 at exam time. \nGeneral class book: General Class License Manual\, 8th edition.\nThe book is available from the following sources:\n– “Matt” Dillon (If ordered early)\n– Ham Radio Outlet\, Portland store\, 1-800-765-4267\n– American Radio Relay League\, www.arrl.org\n– Amazon.com \nAvailable Seats: 12 for General class \nRegistration Contact: An email to the contact below with your phone # is your registration. \n“Matt” Dillon W7ARD\n439 Heywood Ave.\, Eugene\, OR (Santa Clara area)\n541-689-0640 w7ard@msn.com preferred
URL:https://www.laneares.org/event/general-class3-spring18/
LOCATION:American Red Cross\, 440 E Broadway Ave.\, Eugene\, OR\, 97401\, United States
ORGANIZER;CN="Matt Dillon":MAILTO:w7ard@msn.com
END:VEVENT
BEGIN:VEVENT
DTSTART;TZID=America/Los_Angeles:20180419T190000
DTEND;TZID=America/Los_Angeles:20180419T210000
DTSTAMP:20260422T153640
CREATED:20180119T144714Z
LAST-MODIFIED:20180119T144714Z
UID:272-1524164400-1524171600@www.laneares.org
SUMMARY:Entry-level (Technician) License Class (Session 3)
DESCRIPTION:Entry-level (Technician) license: Thursdays 7-9pm\, Apr 5-May 24\, 2018 (8 sessions)\nRegistration deadline\, March 20\, 2017 \nLocation: 440 E. Broadway\, Suite 200\, Eugene\, OR 97401 \nCost: No cost for the class! The study book is $30. License exam fee is $15 at exam time. \nTechnician class book: Ham Radio License Manual\, 3rd edition. \nThe book is available from the following sources:\n– “Matt” Dillon (If ordered early)\n– Ham Radio Outlet\, Portland store\, 1-800-765-4267\n– American Radio Relay League\, www.arrl.org\n– Amazon.com \nAvailable Seats: 25 for Technician class \nRegistration Contact: An email to the contact below with your phone # is your registration. \n“Matt” Dillon W7ARD\n541-689-0640\nw7ard@msn.com preferred
URL:https://www.laneares.org/event/technician-class3-spring18/
LOCATION:American Red Cross\, 440 E Broadway Ave.\, Eugene\, OR\, 97401\, United States
ORGANIZER;CN="Matt Dillon":MAILTO:w7ard@msn.com
END:VEVENT
BEGIN:VEVENT
DTSTART;TZID=America/Los_Angeles:20180417T190000
DTEND;TZID=America/Los_Angeles:20180417T210000
DTSTAMP:20260422T153640
CREATED:20180119T151124Z
LAST-MODIFIED:20180119T151124Z
UID:292-1523991600-1523998800@www.laneares.org
SUMMARY:Intermediate (General) License Class (Session 2)
DESCRIPTION:Spring: Intermediate (General) license: Tuesdays 7-9pm\, Apr 10-May 22\, 2018 (7 sessions)\nRegistration deadline\, March 20\, 2017 \nLocation: 440 E. Broadway\, Suite 200\, Eugene\, OR 97401 \nCost: No cost for the class! The study book is $30. License exam fee is $15 at exam time. \nGeneral class book: General Class License Manual\, 8th edition.\nThe book is available from the following sources:\n– “Matt” Dillon (If ordered early)\n– Ham Radio Outlet\, Portland store\, 1-800-765-4267\n– American Radio Relay League\, www.arrl.org\n– Amazon.com \nAvailable Seats: 12 for General class \nRegistration Contact: An email to the contact below with your phone # is your registration. \n“Matt” Dillon W7ARD\n439 Heywood Ave.\, Eugene\, OR (Santa Clara area)\n541-689-0640 w7ard@msn.com preferred
URL:https://www.laneares.org/event/general-class2-spring18/
LOCATION:American Red Cross\, 440 E Broadway Ave.\, Eugene\, OR\, 97401\, United States
ORGANIZER;CN="Matt Dillon":MAILTO:w7ard@msn.com
END:VEVENT
BEGIN:VEVENT
DTSTART;TZID=America/Los_Angeles:20180412T190000
DTEND;TZID=America/Los_Angeles:20180412T210000
DTSTAMP:20260422T153640
CREATED:20180119T144536Z
LAST-MODIFIED:20180119T144536Z
UID:270-1523559600-1523566800@www.laneares.org
SUMMARY:Entry-level (Technician) License Class (Session 2)
DESCRIPTION:Entry-level (Technician) license: Thursdays 7-9pm\, Apr 5-May 24\, 2018 (8 sessions)\nRegistration deadline\, March 20\, 2017 \nLocation: 440 E. Broadway\, Suite 200\, Eugene\, OR 97401 \nCost: No cost for the class! The study book is $30. License exam fee is $15 at exam time. \nTechnician class book: Ham Radio License Manual\, 3rd edition. \nThe book is available from the following sources:\n– “Matt” Dillon (If ordered early)\n– Ham Radio Outlet\, Portland store\, 1-800-765-4267\n– American Radio Relay League\, www.arrl.org\n– Amazon.com \nAvailable Seats: 25 for Technician class \nRegistration Contact: An email to the contact below with your phone # is your registration. \n“Matt” Dillon W7ARD\n541-689-0640\nw7ard@msn.com preferred
URL:https://www.laneares.org/event/technician-class2-spring18/
LOCATION:American Red Cross\, 440 E Broadway Ave.\, Eugene\, OR\, 97401\, United States
ORGANIZER;CN="Matt Dillon":MAILTO:w7ard@msn.com
END:VEVENT
BEGIN:VEVENT
DTSTART;TZID=America/Los_Angeles:20180410T190000
DTEND;TZID=America/Los_Angeles:20180410T210000
DTSTAMP:20260422T153640
CREATED:20180119T151018Z
LAST-MODIFIED:20180119T151018Z
UID:290-1523386800-1523394000@www.laneares.org
SUMMARY:Intermediate (General) License Class
DESCRIPTION:Spring: Intermediate (General) license: Tuesdays 7-9pm\, Apr 10-May 22\, 2018 (7 sessions)\nRegistration deadline\, March 20\, 2017 \nLocation: 440 E. Broadway\, Suite 200\, Eugene\, OR 97401 \nCost: No cost for the class! The study book is $30. License exam fee is $15 at exam time. \nGeneral class book: General Class License Manual\, 8th edition.\nThe book is available from the following sources:\n– “Matt” Dillon (If ordered early)\n– Ham Radio Outlet\, Portland store\, 1-800-765-4267\n– American Radio Relay League\, www.arrl.org\n– Amazon.com \nAvailable Seats: 12 for General class \nRegistration Contact: An email to the contact below with your phone # is your registration. \n“Matt” Dillon W7ARD\n439 Heywood Ave.\, Eugene\, OR (Santa Clara area)\n541-689-0640 w7ard@msn.com preferred
URL:https://www.laneares.org/event/general-class1-spring18/
LOCATION:American Red Cross\, 440 E Broadway Ave.\, Eugene\, OR\, 97401\, United States
ORGANIZER;CN="Matt Dillon":MAILTO:w7ard@msn.com
END:VEVENT
BEGIN:VEVENT
DTSTART;TZID=America/Los_Angeles:20180405T190000
DTEND;TZID=America/Los_Angeles:20180405T210000
DTSTAMP:20260422T153640
CREATED:20180119T144247Z
LAST-MODIFIED:20180119T144247Z
UID:267-1522954800-1522962000@www.laneares.org
SUMMARY:Entry-level (Technician) License Class
DESCRIPTION:Entry-level (Technician) license: Thursdays 7-9pm\, Apr 5-May 24\, 2018 (8 sessions)\nRegistration deadline\, March 20\, 2017 \nLocation: 440 E. Broadway\, Suite 200\, Eugene\, OR 97401 \nCost: No cost for the class! The study book is $30. License exam fee is $15 at exam time. \nTechnician class book: Ham Radio License Manual\, 3rd edition. \nThe book is available from the following sources:\n– “Matt” Dillon (If ordered early)\n– Ham Radio Outlet\, Portland store\, 1-800-765-4267\n– American Radio Relay League\, www.arrl.org\n– Amazon.com \nAvailable Seats: 25 for Technician class \nRegistration Contact: An email to the contact below with your phone # is your registration. \n“Matt” Dillon W7ARD\n541-689-0640\nw7ard@msn.com preferred
URL:https://www.laneares.org/event/technician-class1-spring18/
LOCATION:American Red Cross\, 440 E Broadway Ave.\, Eugene\, OR\, 97401\, United States
ORGANIZER;CN="Matt Dillon":MAILTO:w7ard@msn.com
END:VEVENT
BEGIN:VEVENT
DTSTART;TZID=America/Los_Angeles:20180404T190000
DTEND;TZID=America/Los_Angeles:20180404T190000
DTSTAMP:20260422T153640
CREATED:20180119T154142Z
LAST-MODIFIED:20180119T154142Z
UID:317-1522868400-1522868400@www.laneares.org
SUMMARY:Testing Session
DESCRIPTION:The Valley Radio Club of Oregon holds test sessions on the first Wednesday of the month at the Santa Clara Fire Station No. 62\, 3939 River Rd. Eugene\, OR. \nFor more info about the VRC test sessions contact Riley at w7ril@arrl.net or call 541-345-2407
URL:https://www.laneares.org/event/vrc-testing-apr18/
LOCATION:Santa Clara Fire Station No. 62\, 3939 River Road\, Eugene\, OR\, 97404\, United States
ORGANIZER;CN="Riley McLean":MAILTO:w7ril@arrl.net
END:VEVENT
BEGIN:VEVENT
DTSTART;TZID=America/Los_Angeles:20180312T190000
DTEND;TZID=America/Los_Angeles:20180312T210000
DTSTAMP:20260422T153640
CREATED:20180119T150236Z
LAST-MODIFIED:20180119T150236Z
UID:285-1520881200-1520888400@www.laneares.org
SUMMARY:Lane County Sheriff’s Amateur Radio Operators Meeting
DESCRIPTION:Lane County Sheriff’s Amateur Radio Operators (LCSARO) holds meetings/training sessions on the second Monday of each month. All Lane County Amateur Radio operators with an interest in ARES are encouraged to attend and find out more about the organization. \nMeetings are generally held on the second Monday of the month at 7 PM at the Lane County Sheriff’s Office in Meeting Room 175. Meeting locations can vary (especially in the summer months)\, watch for announcements or contact us at lcsaro.org for more information.
URL:https://www.laneares.org/event/lcsaro-mar18/
LOCATION:Lane County Sheriff’s Office\, 125 E. 8th Avenue\, Eugene\, OR\, 97401\, United States
END:VEVENT
BEGIN:VEVENT
DTSTART;TZID=America/Los_Angeles:20180307T190000
DTEND;TZID=America/Los_Angeles:20180307T190000
DTSTAMP:20260422T153640
CREATED:20180119T154048Z
LAST-MODIFIED:20180119T154048Z
UID:315-1520449200-1520449200@www.laneares.org
SUMMARY:Testing Session
DESCRIPTION:The Valley Radio Club of Oregon holds test sessions on the first Wednesday of the month at the Santa Clara Fire Station No. 62\, 3939 River Rd. Eugene\, OR. \nFor more info about the VRC test sessions contact Riley at w7ril@arrl.net or call 541-345-2407
URL:https://www.laneares.org/event/vrc-testing-mar18/
LOCATION:Santa Clara Fire Station No. 62\, 3939 River Road\, Eugene\, OR\, 97404\, United States
ORGANIZER;CN="Riley McLean":MAILTO:w7ril@arrl.net
END:VEVENT
BEGIN:VEVENT
DTSTART;TZID=America/Los_Angeles:20180220T183000
DTEND;TZID=America/Los_Angeles:20180220T183000
DTSTAMP:20260422T153640
CREATED:20180122T163915Z
LAST-MODIFIED:20180122T163915Z
UID:327-1519151400-1519151400@www.laneares.org
SUMMARY:Emerald Amateur Radio Society Meeting
DESCRIPTION:The Emerald Amateur Radio Society (EARS) was founded in 1960 to promote Amateur Radio and the Amateur Radio community in Lane County. To promote greater harmony in the family radio shack\, EARS became the first club to admit women members. EARS first meeting was in the back room of an ice cream shop in Springfield\, followed by meeting places at the Eugene Public Library\, the Science Factory\, and Springfield’s City Hall.  Currently we are meeting in the EOC room at the Springfield Justice Center\, 230 4th Street\, Springfield OR. \nGeneral meetings are held on the 3rd Tuesday of the month\, unless falling on a holiday\, in which case this website and email notices will post appropriate changes.  EARS is a state-charted non-profit corporation having its own officers and operating equipment. It is associated with the American Radio Relay League’s (ARRL) and EARS operates under the rules of the Federal Communications Commission as regards to the Amateur Radio Service. \nDuring times of emergency\, EARS operates under the auspices of Springfield’s Emergency Management structure.  The Springfield Police Department provides an Auxiliary Radio room housed in the Springfield Justice Center for EARS radio club call sign W7SFD.  The club also maintains a 2 meter repeater\, WA7FQD\, located in Springfield\, found on 146.74 MHz on 2 meters. \nEARS offers the general public information about Amateur radio\, participates in community sponsored events providing ham radio communication\, recommends current classes in Amateur Radio licensing when they are taught\, and its role in emergencies. We also participate in simulated emergency tests (SETS) on a city\, county and state basis.  If you already have an Amateur Radio license\, EARS has many areas of interest ranging from DX ing to antenna building to digital communications\, and more. In addition\, training in Emergency Communications is offered monthly to anyone interested.
URL:https://www.laneares.org/event/ears-feb18/
LOCATION:Springfield Justice Center\, 230 4th St.\, Springfield\, OR\, 97477\, United States
END:VEVENT
BEGIN:VEVENT
DTSTART;TZID=America/Los_Angeles:20180212T190000
DTEND;TZID=America/Los_Angeles:20180212T190000
DTSTAMP:20260422T153640
CREATED:20180106T190801Z
LAST-MODIFIED:20180106T190801Z
UID:89-1518462000-1518462000@www.laneares.org
SUMMARY:Lane County Sheriff’s Amateur Radio Operators Meeting
DESCRIPTION:Lane County Sheriff’s Amateur Radio Operators (LCSARO) holds meetings/training sessions on the second Monday of each month. All Lane County Amateur Radio operators with an interest in ARES are encouraged to attend and find out more about the organization. \nMeetings are generally held on the second Monday of the month at 7 PM at the Lane County Sheriff’s Office in Meeting Room 175. Meeting locations can vary (especially in the summer months)\, watch for announcements or contact us at lcsaro.org for more information.
URL:https://www.laneares.org/event/lane-county-sheriffs-amateur-radio-operators-meeting/
LOCATION:Lane County Sheriff’s Office\, 125 E. 8th Avenue\, Eugene\, OR\, 97401\, United States
END:VEVENT
BEGIN:VEVENT
DTSTART;TZID=America/Los_Angeles:20180207T190000
DTEND;TZID=America/Los_Angeles:20180207T190000
DTSTAMP:20260422T153640
CREATED:20180119T153944Z
LAST-MODIFIED:20180119T153944Z
UID:313-1518030000-1518030000@www.laneares.org
SUMMARY:Testing Session
DESCRIPTION:The Valley Radio Club of Oregon holds test sessions on the first Wednesday of the month at the Santa Clara Fire Station No. 62\, 3939 River Rd. Eugene\, OR. \nFor more info about the VRC test sessions contact Riley at w7ril@arrl.net or call 541-345-2407
URL:https://www.laneares.org/event/vrc-testing-feb18/
LOCATION:Santa Clara Fire Station No. 62\, 3939 River Road\, Eugene\, OR\, 97404\, United States
ORGANIZER;CN="Riley McLean":MAILTO:w7ril@arrl.net
END:VEVENT
BEGIN:VEVENT
DTSTART;TZID=America/Los_Angeles:20180204T083000
DTEND;TZID=America/Los_Angeles:20180204T123000
DTSTAMP:20260422T153640
CREATED:20180119T152524Z
LAST-MODIFIED:20180119T152524Z
UID:307-1517733000-1517747400@www.laneares.org
SUMMARY:2-day Technician License Class (Day 2)
DESCRIPTION:2-day only (Technician) license: Feb 3-4\, 2018 (8:30 am-4:30 pm\, Saturday\, 8:30 am-12:30 pm Sunday with a licensing exam opportunity at 1pm) \nCost: No cost for the classes and the study book is also free. License exam fee is $15 at exam time. \nTechnician class book: KB6NU’s No-Nonsense Technician Class License study guide \nContact Scott Rosenfeld ars.n7ji@gmail.com
URL:https://www.laneares.org/event/2-day-tech-class2-feb18/
LOCATION:OR
ORGANIZER;CN="Scott Rosenfeld":MAILTO:ars.n7ji@gmail.com
END:VEVENT
BEGIN:VEVENT
DTSTART;TZID=America/Los_Angeles:20180203T083000
DTEND;TZID=America/Los_Angeles:20180203T163000
DTSTAMP:20260422T153640
CREATED:20180119T152415Z
LAST-MODIFIED:20180119T152415Z
UID:304-1517646600-1517675400@www.laneares.org
SUMMARY:2-day Technician License Class (Day 1)
DESCRIPTION:2-day only (Technician) license: Feb 3-4\, 2018 (8:30 am-4:30 pm\, Saturday\, 8:30 am-12:30 pm Sunday with a licensing exam opportunity at 1pm) \nCost: No cost for the classes and the study book is also free. License exam fee is $15 at exam time. \nTechnician class book: KB6NU’s No-Nonsense Technician Class License study guide \nContact Scott Rosenfeld ars.n7ji@gmail.com
URL:https://www.laneares.org/event/2-day-tech-class1-feb18/
LOCATION:OR
ORGANIZER;CN="Scott Rosenfeld":MAILTO:ars.n7ji@gmail.com
END:VEVENT
BEGIN:VEVENT
DTSTART;TZID=America/Los_Angeles:20180203T080000
DTEND;TZID=America/Los_Angeles:20180203T100000
DTSTAMP:20260422T153640
CREATED:20180111T233421Z
LAST-MODIFIED:20180111T233421Z
UID:117-1517644800-1517652000@www.laneares.org
SUMMARY:LCSARO Simplex Exercise
DESCRIPTION:LCSARO will be conducting a simplex test at key county locations such as fire stations\, hospitals\, and public meeting places. \nFor details and if you would like to participate\, please visit www.lcsaro.org for details.
URL:https://www.laneares.org/event/lcsaro-simplex-feb18/
LOCATION:OR
END:VEVENT
BEGIN:VEVENT
DTSTART;TZID=America/Los_Angeles:20180202T190000
DTEND;TZID=America/Los_Angeles:20180202T190000
DTSTAMP:20260422T153640
CREATED:20180106T190625Z
LAST-MODIFIED:20180106T190625Z
UID:87-1517598000-1517598000@www.laneares.org
SUMMARY:Valley Radio Club Meeting
DESCRIPTION:The Valley Radio Club of Oregon (formerly Valley Radio Club of Eugene)\, located in Eugene\, Oregon\, was chartered in 1932\, and is one of the oldest\, continuously operated club stations in the United States. It has been affiliated with the American Radio Relay League (ARRL) since 1932\, and associated with the American Red Cross since 1951. \nIf you are a newly licensed ham operator in our community\, please come on by and meet other hams. Our membership is diverse\, with ham radio experience ranging from several months to many decades!! Let us share our hamming experiences with you\, and you’ll see what ham radio fun is all about!!
URL:https://www.laneares.org/event/vrc-feb18/
LOCATION:The Church of Jesus Christ of Latter-Day Saints (Santa Clara)\, 3132 River Road\, Eugene\, OR\, 97404\, United States
END:VEVENT
BEGIN:VEVENT
DTSTART;TZID=America/Los_Angeles:20180108T190000
DTEND;TZID=America/Los_Angeles:20180108T190000
DTSTAMP:20260422T153640
CREATED:20180105T171140Z
LAST-MODIFIED:20180105T171140Z
UID:61-1515438000-1515438000@www.laneares.org
SUMMARY:Lane County Sheriff’s Amateur Radio Operators Meeting
DESCRIPTION:Lane County Sheriff’s Amateur Radio Operators (LCSARO) holds meetings/training sessions on the second Monday of each month. All Lane County Amateur Radio operators with an interest in ARES are encouraged to attend and find out more about the organization. \nMeetings are generally held on the second Monday of the month at 7 PM at the Lane County Sheriff’s Office in Meeting Room 175. Meeting locations can vary (especially in the summer months)\, watch for announcements or contact us at lcsaro.org for more information.
URL:https://www.laneares.org/event/lcsaro-jan18/
LOCATION:Lane County Sheriff’s Office\, 125 E. 8th Avenue\, Eugene\, OR\, 97401\, United States
END:VEVENT
BEGIN:VEVENT
DTSTART;TZID=America/Los_Angeles:20180105T190000
DTEND;TZID=America/Los_Angeles:20180105T190000
DTSTAMP:20260422T153640
CREATED:20180105T171809Z
LAST-MODIFIED:20180105T171809Z
UID:65-1515178800-1515178800@www.laneares.org
SUMMARY:Valley Radio Club Meeting
DESCRIPTION:The Valley Radio Club of Oregon (formerly Valley Radio Club of Eugene)\, located in Eugene\, Oregon\, was chartered in 1932\, and is one of the oldest\, continuously operated club stations in the United States. It has been affiliated with the American Radio Relay League (ARRL) since 1932\, and associated with the American Red Cross since 1951. \nIf you are a newly licensed ham operator in our community\, please come on by and meet other hams. Our membership is diverse\, with ham radio experience ranging from several months to many decades!! Let us share our hamming experiences with you\, and you’ll see what ham radio fun is all about!!
URL:https://www.laneares.org/event/vrc-jan18/
LOCATION:The Church of Jesus Christ of Latter-Day Saints (Santa Clara)\, 3132 River Road\, Eugene\, OR\, 97404\, United States
END:VEVENT
BEGIN:VEVENT
DTSTART;TZID=America/Los_Angeles:20180103T190000
DTEND;TZID=America/Los_Angeles:20180103T190000
DTSTAMP:20260422T153640
CREATED:20180119T153726Z
LAST-MODIFIED:20180119T153726Z
UID:309-1515006000-1515006000@www.laneares.org
SUMMARY:Testing Session
DESCRIPTION:The Valley Radio Club of Oregon holds test sessions on the first Wednesday of the month at the Santa Clara Fire Station No. 62\, 3939 River Rd. Eugene\, OR. \nFor more info about the VRC test sessions contact Riley at w7ril@arrl.net or call 541-345-2407
URL:https://www.laneares.org/event/vrc-testing-jan18/
LOCATION:Santa Clara Fire Station No. 62\, 3939 River Road\, Eugene\, OR\, 97404\, United States
ORGANIZER;CN="Riley McLean":MAILTO:w7ril@arrl.net
END:VEVENT
BEGIN:VEVENT
DTSTART;TZID=UTC:20171125T123000
DTEND;TZID=UTC:20171125T140000
DTSTAMP:20260422T153640
CREATED:20171015T053453Z
LAST-MODIFIED:20171015T053453Z
UID:33-1511613000-1511618400@www.laneares.org
SUMMARY:License Testing Session - EARS
DESCRIPTION:VE’s at 12:30\, test candidates by 12:50\, with the test starting at 1:00pm\nFor more information contact Peter McClosky: N7IY@arrl.net
URL:https://www.laneares.org/event/nov25-2017-testing-session/
LOCATION:SUB Board Room\, 223 A St\, Suite F\, Springfield\, OR\, 97477\, United States
ORGANIZER;CN="Peter McClosky":MAILTO:n7iy@arrl.net
END:VEVENT
BEGIN:VEVENT
DTSTART;TZID=America/Los_Angeles:20171114T183000
DTEND;TZID=America/Los_Angeles:20171114T193000
DTSTAMP:20260422T153640
CREATED:20171015T010207Z
LAST-MODIFIED:20171015T010207Z
UID:51-1510684200-1510687800@www.laneares.org
SUMMARY:Emerald Amateur Radio Society Meeting
DESCRIPTION:
URL:https://www.laneares.org/event/nov-ears/
LOCATION:Springfield Justice Center\, 230 4th St.\, Springfield\, OR\, 97477\, United States
END:VEVENT
BEGIN:VEVENT
DTSTART;TZID=America/Los_Angeles:20171112T140000
DTEND;TZID=America/Los_Angeles:20171112T160000
DTSTAMP:20260422T153640
CREATED:20171015T010425Z
LAST-MODIFIED:20171015T010425Z
UID:54-1510495200-1510502400@www.laneares.org
SUMMARY:South Lane Amateur Radio Association Meeting
DESCRIPTION:
URL:https://www.laneares.org/event/nov-slara/
LOCATION:Cottage Grove Masonic Center\, 33322 Row River Road\, Cottage Grove\, OR\, 97424\, United States
END:VEVENT
BEGIN:VEVENT
DTSTART;TZID=UTC:20171103T190000
DTEND;TZID=UTC:20171103T203000
DTSTAMP:20260422T153640
CREATED:20171015T051956Z
LAST-MODIFIED:20171015T051956Z
UID:27-1509735600-1509741000@www.laneares.org
SUMMARY:Valley Radio Club Meeting
DESCRIPTION:
URL:https://www.laneares.org/event/nov-vrc/
LOCATION:The Church of Jesus Christ of Latter-Day Saints (Santa Clara)\, 3132 River Road\, Eugene\, OR\, 97404\, United States
END:VEVENT
BEGIN:VEVENT
DTSTART;TZID=UTC:20171101T190000
DTEND;TZID=UTC:20171101T200000
DTSTAMP:20260422T153640
CREATED:20171015T052950Z
LAST-MODIFIED:20171015T052950Z
UID:30-1509562800-1509566400@www.laneares.org
SUMMARY:License Testing Session - VRC
DESCRIPTION:License Testing Session To schedule\, contact Riley at 541-345-2407
URL:https://www.laneares.org/event/nov-license-testing-session/
LOCATION:OR
END:VEVENT
END:VCALENDAR